BEGIN:VCALENDAR
VERSION:2.0
PRODID:-//山形市市民活動支援センター - ECPv4.6.24.1//NONSGML v1.0//EN
CALSCALE:GREGORIAN
METHOD:PUBLISH
X-WR-CALNAME:山形市市民活動支援センター
X-ORIGINAL-URL:https://www.yamagata-npo.jp
X-WR-CALDESC:Events for 山形市市民活動支援センター
BEGIN:VEVENT
DTSTART;TZID=Asia/Tokyo:20180920T190000
DTEND;TZID=Asia/Tokyo:20180920T210000
DTSTAMP:20260419T173818
CREATED:20180621T093518Z
LAST-MODIFIED:20180621T093518Z
UID:10654-1537470000-1537477200@www.yamagata-npo.jp
SUMMARY:パソコンお悩み相談室
DESCRIPTION:チラシ・申込み用紙（PDF・Word）はこちらからダウンロードできます \n
URL:https://www.yamagata-npo.jp/event/10654
LOCATION:山形市市民活動支援センター　ミーティングコーナー
CATEGORIES:センター主催
ATTACH;FMTTYPE=image/jpeg:https://www.yamagata-npo.jp/wp/wp-content/uploads/PCsoudan-H30.7-9-1-1.jpg
ORGANIZER;CN="%E5%B1%B1%E5%BD%A2%E5%B8%82%E5%B8%82%E6%B0%91%E6%B4%BB%E5%8B%95%E6%94%AF%E6%8F%B4%E3%82%BB%E3%83%B3%E3%82%BF%E3%83%BC":MAILTO:center@yamagata-npo.jp
END:VEVENT
END:VCALENDAR