BEGIN:VCALENDAR
VERSION:2.0
PRODID:-//山形市市民活動支援センター - ECPv4.6.24.1//NONSGML v1.0//EN
CALSCALE:GREGORIAN
METHOD:PUBLISH
X-WR-CALNAME:山形市市民活動支援センター
X-ORIGINAL-URL:https://www.yamagata-npo.jp
X-WR-CALDESC:Events for 山形市市民活動支援センター
BEGIN:VEVENT
DTSTART;TZID=Asia/Tokyo:20180914T100000
DTEND;TZID=Asia/Tokyo:20180914T120000
DTSTAMP:20260419T174707
CREATED:20180714T122907Z
LAST-MODIFIED:20180714T122907Z
UID:10877-1536919200-1536926400@www.yamagata-npo.jp
SUMMARY:つぶやきホッとサロン
DESCRIPTION:チラシはこちらからダウンロードできます（PDFデータ） \n
URL:https://www.yamagata-npo.jp/event/10877
LOCATION:山形市市民活動支援センター　ミーティングルーム
CATEGORIES:センター主催
ATTACH;FMTTYPE=image/jpeg:https://www.yamagata-npo.jp/wp/wp-content/uploads/1808_salon01-1.jpg
END:VEVENT
END:VCALENDAR