BEGIN:VCALENDAR
VERSION:2.0
PRODID:-//山形市市民活動支援センター - ECPv4.6.24.1//NONSGML v1.0//EN
CALSCALE:GREGORIAN
METHOD:PUBLISH
X-WR-CALNAME:山形市市民活動支援センター
X-ORIGINAL-URL:https://www.yamagata-npo.jp
X-WR-CALDESC:Events for 山形市市民活動支援センター
BEGIN:VEVENT
DTSTART;TZID=Asia/Tokyo:20180908T100000
DTEND;TZID=Asia/Tokyo:20180908T120000
DTSTAMP:20260419T174538
CREATED:20180729T052432Z
LAST-MODIFIED:20180731T065302Z
UID:11051-1536400800-1536408000@www.yamagata-npo.jp
SUMMARY:ＮＰＯ勉強会
DESCRIPTION:  \n・チラシＰＤＦデータは、こちらからダウンロードすることができます\n・申込書ＷＯＲＤデータは、こちらからダウンロードすることができます \n  \n
URL:https://www.yamagata-npo.jp/event/11051
LOCATION:山形市市民活動支援センター　会議室B\, 城南町1-1-1　霞城セントラル\, 山形市\, 山形県\, 9908580\, 日本
CATEGORIES:センター主催
ATTACH;FMTTYPE=image/jpeg:https://www.yamagata-npo.jp/wp/wp-content/uploads/180908_chirashi.jpg
END:VEVENT
END:VCALENDAR