BEGIN:VCALENDAR
VERSION:2.0
PRODID:-//山形市市民活動支援センター - ECPv4.6.24.1//NONSGML v1.0//EN
CALSCALE:GREGORIAN
METHOD:PUBLISH
X-WR-CALNAME:山形市市民活動支援センター
X-ORIGINAL-URL:https://www.yamagata-npo.jp
X-WR-CALDESC:Events for 山形市市民活動支援センター
BEGIN:VEVENT
DTSTART;TZID=Asia/Tokyo:20180921T190000
DTEND;TZID=Asia/Tokyo:20180921T210000
DTSTAMP:20260419T222327
CREATED:20180803T095314Z
LAST-MODIFIED:20180803T095314Z
UID:11103-1537556400-1537563600@www.yamagata-npo.jp
SUMMARY:山形ビエンナーレ2018×YIDFF2019プレ・イベント「シネマ通りの夜」
DESCRIPTION: \nチラシＰＤＦデータはこちらからダウンロードできます \n
URL:https://www.yamagata-npo.jp/event/11103
LOCATION:KUGURU\, 山形市七日町2-7-23　とんがりビル1F
GEO:38.2531908;140.3406736
X-APPLE-STRUCTURED-LOCATION;VALUE=URI;X-ADDRESS=KUGURU 山形市七日町2-7-23　とんがりビル1F;X-APPLE-RADIUS=500;X-TITLE=山形市七日町2-7-23　とんがりビル1F:geo:140.3406736,38.2531908
CATEGORIES:団体主催
ATTACH;FMTTYPE=image/jpeg:https://www.yamagata-npo.jp/wp/wp-content/uploads/18.9-cinemadori2018_01-1-1.jpg
ORGANIZER;CN="%E8%AA%8D%E5%AE%9ANPO%E6%B3%95%E4%BA%BA%E5%B1%B1%E5%BD%A2%E5%9B%BD%E9%9A%9B%E3%83%89%E3%82%AD%E3%83%A5%E3%83%A1%E3%83%B3%E3%82%BF%E3%83%AA%E3%83%BC%E6%98%A0%E7%94%BB%E7%A5%AD":MAILTO:info@yidff.jp
END:VEVENT
END:VCALENDAR