BEGIN:VCALENDAR
VERSION:2.0
PRODID:-//山形市市民活動支援センター - ECPv4.6.24.1//NONSGML v1.0//EN
CALSCALE:GREGORIAN
METHOD:PUBLISH
X-WR-CALNAME:山形市市民活動支援センター
X-ORIGINAL-URL:https://www.yamagata-npo.jp
X-WR-CALDESC:Events for 山形市市民活動支援センター
BEGIN:VEVENT
DTSTART;TZID=Asia/Tokyo:20180827T190000
DTEND;TZID=Asia/Tokyo:20180827T210000
DTSTAMP:20260419T234828
CREATED:20180804T083905Z
LAST-MODIFIED:20180804T083905Z
UID:11109-1535396400-1535403600@www.yamagata-npo.jp
SUMMARY:～未来を生きぬく力を育む～「これからの教育講座」
DESCRIPTION:・チラシPDFデータはこちらからダウンロードすることができます \n
URL:https://www.yamagata-npo.jp/event/11109
LOCATION:山形市男女共同参画センターファーラ5階\, 山形市城西町２－２－２２
GEO:38.2546692;140.3220338
X-APPLE-STRUCTURED-LOCATION;VALUE=URI;X-ADDRESS=山形市男女共同参画センターファーラ5階 山形市城西町２－２－２２;X-APPLE-RADIUS=500;X-TITLE=山形市城西町２－２－２２:geo:140.3220338,38.2546692
CATEGORIES:団体主催
ATTACH;FMTTYPE=image/jpeg:https://www.yamagata-npo.jp/wp/wp-content/uploads/18.8.27_igumen.jpg
ORGANIZER;CN="%E3%82%84%E3%81%BE%E3%81%8C%E3%81%9F%E3%82%A4%E3%82%B0%E3%83%A1%E3%83%B3%E5%85%B1%E5%92%8C%E5%9B%BD":MAILTO:yamagata.igumen2013@gmail.com
END:VEVENT
END:VCALENDAR