BEGIN:VCALENDAR
VERSION:2.0
PRODID:-//山形市市民活動支援センター - ECPv4.6.24.1//NONSGML v1.0//EN
CALSCALE:GREGORIAN
METHOD:PUBLISH
X-WR-CALNAME:山形市市民活動支援センター
X-ORIGINAL-URL:https://www.yamagata-npo.jp
X-WR-CALDESC:Events for 山形市市民活動支援センター
BEGIN:VEVENT
DTSTART;TZID=Asia/Tokyo:20180822T133000
DTEND;TZID=Asia/Tokyo:20180822T160000
DTSTAMP:20260420T123948
CREATED:20180809T050822Z
LAST-MODIFIED:20180809T050822Z
UID:11159-1534944600-1534953600@www.yamagata-npo.jp
SUMMARY:省エネルギーセミナー
DESCRIPTION: \nチラシ・申し込み用紙はこちらからダウンロードできます（PDFデータ） \n
URL:https://www.yamagata-npo.jp/event/11159
LOCATION:マリカ東館（庄内産業振興センター）３階　第２研修室\, 鶴岡市末広町3-1
CATEGORIES:団体主催
ATTACH;FMTTYPE=image/jpeg:https://www.yamagata-npo.jp/wp/wp-content/uploads/180809_01.jpg
END:VEVENT
END:VCALENDAR