BEGIN:VCALENDAR
VERSION:2.0
PRODID:-//山形市市民活動支援センター - ECPv4.6.24.1//NONSGML v1.0//EN
CALSCALE:GREGORIAN
METHOD:PUBLISH
X-WR-CALNAME:山形市市民活動支援センター
X-ORIGINAL-URL:https://www.yamagata-npo.jp
X-WR-CALDESC:Events for 山形市市民活動支援センター
BEGIN:VEVENT
DTSTART;TZID=Asia/Tokyo:20180901T133000
DTEND;TZID=Asia/Tokyo:20180901T153000
DTSTAMP:20260419T204858
CREATED:20180809T051704Z
LAST-MODIFIED:20180809T052045Z
UID:11178-1535808600-1535815800@www.yamagata-npo.jp
SUMMARY:プレ全国紙芝居まつり　かみのやま（山形）大会
DESCRIPTION:チラシはこちらからダウンロードできます。（PDFデータ） \n
URL:https://www.yamagata-npo.jp/event/11178
LOCATION:上山市総合こどもセンター　めんごりあ　上山市立図書館
CATEGORIES:団体主催
ATTACH;FMTTYPE=image/jpeg:https://www.yamagata-npo.jp/wp/wp-content/uploads/180809_03.jpg
END:VEVENT
END:VCALENDAR