BEGIN:VCALENDAR
VERSION:2.0
PRODID:-//山形市市民活動支援センター - ECPv4.6.24.1//NONSGML v1.0//EN
CALSCALE:GREGORIAN
METHOD:PUBLISH
X-WR-CALNAME:山形市市民活動支援センター
X-ORIGINAL-URL:https://www.yamagata-npo.jp
X-WR-CALDESC:Events for 山形市市民活動支援センター
BEGIN:VEVENT
DTSTART;TZID=Asia/Tokyo:20180919T133000
DTEND;TZID=Asia/Tokyo:20180919T153000
DTSTAMP:20260419T204855
CREATED:20180824T023248Z
LAST-MODIFIED:20180824T024050Z
UID:11274-1537363800-1537371000@www.yamagata-npo.jp
SUMMARY:介護カフェ
DESCRIPTION: \n・チラシＰＤＦデータは、こちらからダウンロードすることができます \n
URL:https://www.yamagata-npo.jp/event/11274
LOCATION:山形市男女共同参画センターファーラ4階会議室\, 城西町2－2－22\, 山形市
GEO:38.2546692;140.3220338
X-APPLE-STRUCTURED-LOCATION;VALUE=URI;X-ADDRESS=山形市男女共同参画センターファーラ4階会議室 城西町2－2－22 山形市;X-APPLE-RADIUS=500;X-TITLE=城西町2－2－22:geo:140.3220338,38.2546692
CATEGORIES:団体主催
ATTACH;FMTTYPE=image/jpeg:https://www.yamagata-npo.jp/wp/wp-content/uploads/180919_kaigocafe.jpg
END:VEVENT
END:VCALENDAR