BEGIN:VCALENDAR
VERSION:2.0
PRODID:-//山形市市民活動支援センター - ECPv4.6.24.1//NONSGML v1.0//EN
CALSCALE:GREGORIAN
METHOD:PUBLISH
X-WR-CALNAME:山形市市民活動支援センター
X-ORIGINAL-URL:https://www.yamagata-npo.jp
X-WR-CALDESC:Events for 山形市市民活動支援センター
BEGIN:VEVENT
DTSTART;TZID=Asia/Tokyo:20180908T133000
DTEND;TZID=Asia/Tokyo:20180908T153000
DTSTAMP:20260419T192420
CREATED:20180824T025420Z
LAST-MODIFIED:20180824T025420Z
UID:11290-1536413400-1536420600@www.yamagata-npo.jp
SUMMARY:セミナー『今、親と子どもの居るところ』
DESCRIPTION: \n・チラシＰＤＦデータは、こちらからダウンロードすることができます \n
URL:https://www.yamagata-npo.jp/event/11290
LOCATION:山形学園\, 蔵王上野924\, 山形市
GEO:38.1764158;140.3169791
X-APPLE-STRUCTURED-LOCATION;VALUE=URI;X-ADDRESS=山形学園 蔵王上野924 山形市;X-APPLE-RADIUS=500;X-TITLE=蔵王上野924:geo:140.3169791,38.1764158
CATEGORIES:団体主催
ATTACH;FMTTYPE=image/jpeg:https://www.yamagata-npo.jp/wp/wp-content/uploads/180908_cap.jpg
END:VEVENT
END:VCALENDAR