BEGIN:VCALENDAR
VERSION:2.0
PRODID:-//山形市市民活動支援センター - ECPv4.6.24.1//NONSGML v1.0//EN
CALSCALE:GREGORIAN
METHOD:PUBLISH
X-WR-CALNAME:山形市市民活動支援センター
X-ORIGINAL-URL:https://www.yamagata-npo.jp
X-WR-CALDESC:Events for 山形市市民活動支援センター
BEGIN:VEVENT
DTSTART;TZID=Asia/Tokyo:20180922T110000
DTEND;TZID=Asia/Tokyo:20180922T160000
DTSTAMP:20260420T012242
CREATED:20180921T055143Z
LAST-MODIFIED:20180921T055143Z
UID:11737-1537614000-1537632000@www.yamagata-npo.jp
SUMMARY:結城泰作氏のペン画で観る山形の洋館
DESCRIPTION:結城泰作氏のペン画で観る山形の洋館 \n今年は大旅行家イザベラバードが山形を訪れて１４０年。内陸の古い城下町ながら既に洋風建造物の街並みができており彼女を驚かせましたが、その当時から昭和１０年代までの山形の洋風建造物を細密に描かれた故結城泰作氏のペン画十数点を大正レトロな旧西村写真館(中央郵便局150m東)で展示いたします。 \n１．開催日　2018年9月21日（金）、22日（土）、23日（日）、24日（月）\n各日11～16時\n２．会場　　旧西村写真館（主として2階旧写真スタジオ）\n山形市本町2丁目（中央郵便局東150ｍ）\n３．展示作品　故結城泰作氏のレトロ館ペン画\n４．入場料　無料（但し、旧西村写真館補修募金にご協力ください【自由】）\n５．主催　旧西村写真館保存活用の会\n問合せ先　090-9741-6013（小林） \n
URL:https://www.yamagata-npo.jp/event/11737
LOCATION:旧西村写真館\, 山形市本町2-1-51
CATEGORIES:団体主催
END:VEVENT
END:VCALENDAR