BEGIN:VCALENDAR
VERSION:2.0
PRODID:-//山形市市民活動支援センター - ECPv4.6.24.1//NONSGML v1.0//EN
CALSCALE:GREGORIAN
METHOD:PUBLISH
X-WR-CALNAME:山形市市民活動支援センター
X-ORIGINAL-URL:https://www.yamagata-npo.jp
X-WR-CALDESC:Events for 山形市市民活動支援センター
BEGIN:VEVENT
DTSTART;TZID=Asia/Tokyo:20190618T100000
DTEND;TZID=Asia/Tokyo:20190618T100000
DTSTAMP:20260420T051450
CREATED:20190105T021621Z
LAST-MODIFIED:20190329T071015Z
UID:13485-1560852000-1560852000@www.yamagata-npo.jp
SUMMARY:「遊びり会」に音楽療法を導入　一緒に参加しませんか？
DESCRIPTION:チラシはこちらからダウンロードできます（PDF形式） \n
URL:https://www.yamagata-npo.jp/event/13485
LOCATION:西山形コミュニティセンター\, 山形市柏倉3800
GEO:38.235786;140.2699145
X-APPLE-STRUCTURED-LOCATION;VALUE=URI;X-ADDRESS=西山形コミュニティセンター 山形市柏倉3800;X-APPLE-RADIUS=500;X-TITLE=山形市柏倉3800:geo:140.2699145,38.235786
CATEGORIES:団体主催
ATTACH;FMTTYPE=image/jpeg:https://www.yamagata-npo.jp/wp/wp-content/uploads/1904-12-pakinsonasobiri.jpg
END:VEVENT
END:VCALENDAR