BEGIN:VCALENDAR
VERSION:2.0
PRODID:-//山形市市民活動支援センター - ECPv4.6.24.1//NONSGML v1.0//EN
CALSCALE:GREGORIAN
METHOD:PUBLISH
X-WR-CALNAME:山形市市民活動支援センター
X-ORIGINAL-URL:https://www.yamagata-npo.jp
X-WR-CALDESC:Events for 山形市市民活動支援センター
BEGIN:VEVENT
DTSTART;TZID=Asia/Tokyo:20190609T100000
DTEND;TZID=Asia/Tokyo:20190609T170000
DTSTAMP:20260419T115655
CREATED:20190207T075509Z
LAST-MODIFIED:20190207T075509Z
UID:13782-1560074400-1560099600@www.yamagata-npo.jp
SUMMARY:第8期山形県要約筆記者養成講座
DESCRIPTION:・チラシPDFデータは、こちらからダウンロードすることができます\n・開催要綱PDFデータは、こちらからダウンロードすることができます \n
URL:https://www.yamagata-npo.jp/event/13782
LOCATION:山形県社会福祉研修センター\, 小白川町2-3-30\, 山形市
CATEGORIES:団体主催
ATTACH;FMTTYPE=image/jpeg:https://www.yamagata-npo.jp/wp/wp-content/uploads/1904-yoyakuhiki-2.jpg
END:VEVENT
END:VCALENDAR