BEGIN:VCALENDAR
VERSION:2.0
PRODID:-//山形市市民活動支援センター - ECPv4.6.24.1//NONSGML v1.0//EN
CALSCALE:GREGORIAN
METHOD:PUBLISH
X-WR-CALNAME:山形市市民活動支援センター
X-ORIGINAL-URL:https://www.yamagata-npo.jp
X-WR-CALDESC:Events for 山形市市民活動支援センター
BEGIN:VEVENT
DTSTART;TZID=Asia/Tokyo:20190621T133000
DTEND;TZID=Asia/Tokyo:20190621T153000
DTSTAMP:20260420T123943
CREATED:20190330T022848Z
LAST-MODIFIED:20190405T060800Z
UID:14593-1561123800-1561131000@www.yamagata-npo.jp
SUMMARY:パソコンお悩み相談室
DESCRIPTION:チラシはこちらからダウンロードできます（PDF形式） \n
URL:https://www.yamagata-npo.jp/event/14593
LOCATION:山形市市民活動支援センター　ミーティングルーム
CATEGORIES:センター主催
ATTACH;FMTTYPE=image/jpeg:https://www.yamagata-npo.jp/wp/wp-content/uploads/4d6a3f889d520c8fce4e02a79e1cd0a8-3.jpg
END:VEVENT
END:VCALENDAR