BEGIN:VCALENDAR
VERSION:2.0
PRODID:-//山形市市民活動支援センター - ECPv4.6.24.1//NONSGML v1.0//EN
CALSCALE:GREGORIAN
METHOD:PUBLISH
X-WR-CALNAME:山形市市民活動支援センター
X-ORIGINAL-URL:https://www.yamagata-npo.jp
X-WR-CALDESC:Events for 山形市市民活動支援センター
BEGIN:VEVENT
DTSTART;TZID=Asia/Tokyo:20190614T100000
DTEND;TZID=Asia/Tokyo:20190614T120000
DTSTAMP:20260419T210925
CREATED:20190510T060019Z
LAST-MODIFIED:20190510T060019Z
UID:14980-1560506400-1560513600@www.yamagata-npo.jp
SUMMARY:つぶやきホッとサロン
DESCRIPTION:チラシはこちらからダウンロードできます（PDFデータ） \n
URL:https://www.yamagata-npo.jp/event/14980
LOCATION:山形市市民活動支援センター　ミーティングコーナー
CATEGORIES:センター主催
ATTACH;FMTTYPE=image/jpeg:https://www.yamagata-npo.jp/wp/wp-content/uploads/db9991cb1b5bc0755886e04a802cee07.jpg
END:VEVENT
END:VCALENDAR