BEGIN:VCALENDAR
VERSION:2.0
PRODID:-//山形市市民活動支援センター - ECPv4.6.24.1//NONSGML v1.0//EN
CALSCALE:GREGORIAN
METHOD:PUBLISH
X-WR-CALNAME:山形市市民活動支援センター
X-ORIGINAL-URL:https://www.yamagata-npo.jp
X-WR-CALDESC:Events for 山形市市民活動支援センター
BEGIN:VEVENT
DTSTART;TZID=Asia/Tokyo:20190608T100000
DTEND;TZID=Asia/Tokyo:20190608T163000
DTSTAMP:20260421T124117
CREATED:20190518T063031Z
LAST-MODIFIED:20190518T063031Z
UID:15108-1559988000-1560011400@www.yamagata-npo.jp
SUMMARY:幼児の自然体験フォーラム
DESCRIPTION: \nチラシはこちらからダウンロードできます（ＰＤＦ） \n
URL:https://www.yamagata-npo.jp/event/15108
LOCATION:朝日少年自然の家\, 山形県西村山郡大江町大字左沢楯山２５２３－５
CATEGORIES:団体主催
ATTACH;FMTTYPE=image/jpeg:https://www.yamagata-npo.jp/wp/wp-content/uploads/2019.6.8_camp_1.jpg
ORGANIZER;CN="%E5%B1%B1%E5%BD%A2%E7%9C%8C%E3%82%AD%E3%83%A3%E3%83%B3%E3%83%97%E5%8D%94%E4%BC%9A":MAILTO:yamagata@camping.or.jp
END:VEVENT
END:VCALENDAR