BEGIN:VCALENDAR
VERSION:2.0
PRODID:-//山形市市民活動支援センター - ECPv4.6.24.1//NONSGML v1.0//EN
CALSCALE:GREGORIAN
METHOD:PUBLISH
X-WR-CALNAME:山形市市民活動支援センター
X-ORIGINAL-URL:https://www.yamagata-npo.jp
X-WR-CALDESC:Events for 山形市市民活動支援センター
BEGIN:VEVENT
DTSTART;TZID=Asia/Tokyo:20190604T093000
DTEND;TZID=Asia/Tokyo:20190604T150000
DTSTAMP:20260421T153144
CREATED:20190526T110845Z
LAST-MODIFIED:20190526T110845Z
UID:15167-1559640600-1559660400@www.yamagata-npo.jp
SUMMARY:子育て支援者養成講座
DESCRIPTION:チラシはこちらからダウンロードできます \n
URL:https://www.yamagata-npo.jp/event/15167
LOCATION:山形市男女共同参画センター　ファーラ　５階　視聴覚室\, 山形県山形市城西町２－２－２２　山形市総合福祉センター内\, 山形市\, 山形県\, 9900832\, 日本
CATEGORIES:団体主催
ATTACH;FMTTYPE=image/jpeg:https://www.yamagata-npo.jp/wp/wp-content/uploads/190604-01-e1558867417470.jpg
END:VEVENT
END:VCALENDAR