BEGIN:VCALENDAR
VERSION:2.0
PRODID:-//山形市市民活動支援センター - ECPv4.6.24.1//NONSGML v1.0//EN
CALSCALE:GREGORIAN
METHOD:PUBLISH
X-WR-CALNAME:山形市市民活動支援センター
X-ORIGINAL-URL:https://www.yamagata-npo.jp
X-WR-CALDESC:Events for 山形市市民活動支援センター
BEGIN:VEVENT
DTSTART;TZID=Asia/Tokyo:20190602T090000
DTEND;TZID=Asia/Tokyo:20190602T160000
DTSTAMP:20260421T165327
CREATED:20190528T043548Z
LAST-MODIFIED:20190528T043548Z
UID:15187-1559466000-1559491200@www.yamagata-npo.jp
SUMMARY:施設送迎運転者勉強会
DESCRIPTION: \nチラシ、申込用紙はこちらからダウンロードできます（PDFデータ） \n
URL:https://www.yamagata-npo.jp/event/15187
LOCATION:協同の杜JA研修所\, 山形市東古館１２３
CATEGORIES:団体主催
ATTACH;FMTTYPE=image/jpeg:https://www.yamagata-npo.jp/wp/wp-content/uploads/190602_01.jpg
ORGANIZER;CN="%E3%82%84%E3%81%BE%E3%81%8C%E3%81%9F%E7%A6%8F%E7%A5%89%E7%A7%BB%E5%8B%95%E3%82%B5%E3%83%BC%E3%83%93%E3%82%B9%E3%83%8D%E3%83%83%E3%83%88%E3%83%AF%E3%83%BC%E3%82%AF":MAILTO:yamagata-fukushi@lime.plala.or.jp
END:VEVENT
END:VCALENDAR