BEGIN:VCALENDAR
VERSION:2.0
PRODID:-//山形市市民活動支援センター - ECPv4.6.24.1//NONSGML v1.0//EN
CALSCALE:GREGORIAN
METHOD:PUBLISH
X-WR-CALNAME:山形市市民活動支援センター
X-ORIGINAL-URL:https://www.yamagata-npo.jp
X-WR-CALDESC:Events for 山形市市民活動支援センター
BEGIN:VEVENT
DTSTART;TZID=Asia/Tokyo:20190608T100000
DTEND;TZID=Asia/Tokyo:20190608T120000
DTSTAMP:20260421T112410
CREATED:20190528T044749Z
LAST-MODIFIED:20190528T044749Z
UID:15196-1559988000-1559995200@www.yamagata-npo.jp
SUMMARY:おやコミカフェ
DESCRIPTION:チラシはこちらからダウンロードできます（PDFデータ） \n
URL:https://www.yamagata-npo.jp/event/15196
LOCATION:おやコミ研究所　セミナールーム【蔵】
CATEGORIES:団体主催
ATTACH;FMTTYPE=image/jpeg:https://www.yamagata-npo.jp/wp/wp-content/uploads/190608_04.jpg
ORGANIZER;CN="%E3%81%8A%E3%82%84%E3%82%B3%E3%83%9F%E7%A0%94%E7%A9%B6%E6%89%80":MAILTO:yamagataoya@yahoo.co.jp
END:VEVENT
END:VCALENDAR