BEGIN:VCALENDAR
VERSION:2.0
PRODID:-//山形市市民活動支援センター - ECPv4.6.24.1//NONSGML v1.0//EN
CALSCALE:GREGORIAN
METHOD:PUBLISH
X-WR-CALNAME:山形市市民活動支援センター
X-ORIGINAL-URL:https://www.yamagata-npo.jp
X-WR-CALDESC:Events for 山形市市民活動支援センター
BEGIN:VEVENT
DTSTART;TZID=Asia/Tokyo:20190609T140000
DTEND;TZID=Asia/Tokyo:20190609T163000
DTSTAMP:20260419T132906
CREATED:20190530T011632Z
LAST-MODIFIED:20190601T011353Z
UID:15232-1560088800-1560097800@www.yamagata-npo.jp
SUMMARY:自然と人間を学ぶ会　２０１９年第一回　研修会 　　心について学ぶ
DESCRIPTION:自然と人間を学ぶ会　２０１９年第一回　研修会 　　心について学ぶ \n私たちが生きているこの時代は、時空交錯点の時代と呼ばれているようです。価値観が多様化し空間や時間が広がりました。しかし、そこには迷いや軋轢、争乱などの現象も起きています。\n自然と人間を学ぶ会では、野菜づくりの実践を通して自然と人間について本質を学ぶ研修会を開催します。時空交錯点や地球の異変について一緒に考えてみましょう。 \n■日　時：２０１９年６月９日（日）１４：００～１６：３０\n■場　所：山形市南部公民館会議室\n■参加費：無料 \n●お問い合わせ先\n自然と人間を学ぶ会\nＴＥＬ：０２３－６４１－７１４０ \n
URL:https://www.yamagata-npo.jp/event/15232
LOCATION:山形市立南部公民館会議室
CATEGORIES:団体主催
END:VEVENT
END:VCALENDAR