BEGIN:VCALENDAR
VERSION:2.0
PRODID:-//山形市市民活動支援センター - ECPv4.6.24.1//NONSGML v1.0//EN
CALSCALE:GREGORIAN
METHOD:PUBLISH
X-WR-CALNAME:山形市市民活動支援センター
X-ORIGINAL-URL:https://www.yamagata-npo.jp
X-WR-CALDESC:Events for 山形市市民活動支援センター
BEGIN:VEVENT
DTSTART;TZID=Asia/Tokyo:20200926T100000
DTEND;TZID=Asia/Tokyo:20200926T150000
DTSTAMP:20260419T175903
CREATED:20200726T024903Z
LAST-MODIFIED:20200726T024903Z
UID:20206-1601114400-1601132400@www.yamagata-npo.jp
SUMMARY:チェリア塾基本コースin最上　
DESCRIPTION:\nチラシはこちらからダウンロードできます（PDF）\n◇申込締切：8月26日\n◇受講料　：全５回で3\,000円 \n
URL:https://www.yamagata-npo.jp/event/20206
LOCATION:新庄市民プラザ小ホール\, 大手町1-60\, 新庄市\, 山形県\, 日本
CATEGORIES:団体主催
ATTACH;FMTTYPE=image/jpeg:https://www.yamagata-npo.jp/wp/wp-content/uploads/SKM_0905_1205-1-1.jpg
ORGANIZER;CN="%E5%B1%B1%E5%BD%A2%E7%9C%8C%E7%94%B7%E5%A5%B3%E5%85%B1%E5%90%8C%E5%8F%82%E7%94%BB%E3%82%BB%E3%83%B3%E3%82%BF%E3%83%BC%E3%80%80%E3%83%81%E3%82%A7%E3%83%AA%E3%82%A2":MAILTO:cheria1@yamagata-cheria.org
END:VEVENT
END:VCALENDAR