BEGIN:VCALENDAR
VERSION:2.0
PRODID:-//山形市市民活動支援センター - ECPv4.6.24.1//NONSGML v1.0//EN
CALSCALE:GREGORIAN
METHOD:PUBLISH
X-WR-CALNAME:山形市市民活動支援センター
X-ORIGINAL-URL:https://www.yamagata-npo.jp
X-WR-CALDESC:Events for 山形市市民活動支援センター
BEGIN:VEVENT
DTSTART;TZID=Asia/Tokyo:20200929T140000
DTEND;TZID=Asia/Tokyo:20200929T170000
DTSTAMP:20260420T002846
CREATED:20200812T103304Z
LAST-MODIFIED:20200812T103457Z
UID:20557-1601388000-1601398800@www.yamagata-npo.jp
SUMMARY:【オンライン受講限定セミナー】キャリア不安を断ち切る！NPOスタッフの基幹力を育てる「若手スタッフ研修」
DESCRIPTION:
URL:https://www.yamagata-npo.jp/event/20557
CATEGORIES:団体主催
ATTACH;FMTTYPE=image/png:https://www.yamagata-npo.jp/wp/wp-content/uploads/45c5e48927e106e5a662d14ec80651de.png
END:VEVENT
END:VCALENDAR