BEGIN:VCALENDAR
VERSION:2.0
PRODID:-//山形市市民活動支援センター - ECPv4.6.24.1//NONSGML v1.0//EN
CALSCALE:GREGORIAN
METHOD:PUBLISH
X-WR-CALNAME:山形市市民活動支援センター
X-ORIGINAL-URL:https://www.yamagata-npo.jp
X-WR-CALDESC:Events for 山形市市民活動支援センター
BEGIN:VEVENT
DTSTART;TZID=Asia/Tokyo:20200923T183000
DTEND;TZID=Asia/Tokyo:20200923T194500
DTSTAMP:20260422T102003
CREATED:20200812T112555Z
LAST-MODIFIED:20200812T113229Z
UID:20574-1600885800-1600890300@www.yamagata-npo.jp
SUMMARY:【市民のための環境公開講座(通年講座)】パート1：生きものと気候変動「真のパラダイムシフトで地球環境を守ろう！」
DESCRIPTION:
URL:https://www.yamagata-npo.jp/event/20574
CATEGORIES:団体主催
ATTACH;FMTTYPE=image/jpeg:https://www.yamagata-npo.jp/wp/wp-content/uploads/2020s_SOMPOkankyo-kouza-1-1.jpg
ORGANIZER;CN="%EF%BC%88%E5%85%AC%E8%B2%A1%EF%BC%89SOMPO%E7%92%B0%E5%A2%83%E8%B2%A1%E5%9B%A3%E3%80%81%E6%90%8D%E4%BF%9D%E3%82%B8%E3%83%A3%E3%83%91%E3%83%B3%EF%BC%88%E6%A0%AA%EF%BC%89%E3%80%81%EF%BC%88%E5%85%AC%E7%A4%BE%EF%BC%89%E6%97%A5%E6%9C%AC%E7%92%B0%E5%A2%83%E3%83%95%E3%82%A9%E3%83%BC%E3%83%A9%E3%83%A0%EF%BC%88%E3%81%8A%E5%95%8F%E3%81%84%E5%90%88%E3%82%8F%E3%81%9B%EF%BC%9A%EF%BC%88%E5%85%AC%E8%B2%A1%EF%BC%89SOMPO%E7%92%B0%E5%A2%83%E8%B2%A1%E5%9B%A3%EF%BC%89":MAILTO:office@sompo-ef.org
END:VEVENT
END:VCALENDAR