BEGIN:VCALENDAR
VERSION:2.0
PRODID:-//山形市市民活動支援センター - ECPv4.6.24.1//NONSGML v1.0//EN
CALSCALE:GREGORIAN
METHOD:PUBLISH
X-WR-CALNAME:山形市市民活動支援センター
X-ORIGINAL-URL:https://www.yamagata-npo.jp
X-WR-CALDESC:Events for 山形市市民活動支援センター
BEGIN:VEVENT
DTSTART;TZID=Asia/Tokyo:20201003T133000
DTEND;TZID=Asia/Tokyo:20201003T153000
DTSTAMP:20260420T125218
CREATED:20200902T120214Z
LAST-MODIFIED:20200902T120214Z
UID:20880-1601731800-1601739000@www.yamagata-npo.jp
SUMMARY:古典から考える身体的性差とジェンダー　『とりかえばや物語』を起点に
DESCRIPTION:チラシはこちらからダウンロードできます（PDF） \n
URL:https://www.yamagata-npo.jp/event/20880
LOCATION:山形市男女共同参画センター　ファーラ　５階　視聴覚室\, 山形県山形市城西町２－２－２２　山形市総合福祉センター内\, 山形市\, 山形県\, 9900832\, 日本
CATEGORIES:団体主催
ATTACH;FMTTYPE=image/jpeg:https://www.yamagata-npo.jp/wp/wp-content/uploads/SKM_C1003.jpg
END:VEVENT
END:VCALENDAR