BEGIN:VCALENDAR
VERSION:2.0
PRODID:-//山形市市民活動支援センター - ECPv4.6.24.1//NONSGML v1.0//EN
CALSCALE:GREGORIAN
METHOD:PUBLISH
X-WR-CALNAME:山形市市民活動支援センター
X-ORIGINAL-URL:https://www.yamagata-npo.jp
X-WR-CALDESC:Events for 山形市市民活動支援センター
BEGIN:VEVENT
DTSTART;TZID=Asia/Tokyo:20200926T130000
DTEND;TZID=Asia/Tokyo:20200926T180000
DTSTAMP:20260419T132906
CREATED:20200915T072925Z
LAST-MODIFIED:20200915T073138Z
UID:21248-1601125200-1601143200@www.yamagata-npo.jp
SUMMARY:オンライン 災害時における外国人支援セミナー
DESCRIPTION:チラシはこちらよりダウンロードできます \n
URL:https://www.yamagata-npo.jp/event/21248
LOCATION:オンライン開催
CATEGORIES:団体主催
ATTACH;FMTTYPE=image/png:https://www.yamagata-npo.jp/wp/wp-content/uploads/412ef19d4a3364ede9b43b2e8b4e9e22.png
END:VEVENT
END:VCALENDAR