BEGIN:VCALENDAR
VERSION:2.0
PRODID:-//山形市市民活動支援センター - ECPv4.6.24.1//NONSGML v1.0//EN
CALSCALE:GREGORIAN
METHOD:PUBLISH
X-WR-CALNAME:山形市市民活動支援センター
X-ORIGINAL-URL:https://www.yamagata-npo.jp
X-WR-CALDESC:Events for 山形市市民活動支援センター
BEGIN:VEVENT
DTSTART;TZID=Asia/Tokyo:20201006T153000
DTEND;TZID=Asia/Tokyo:20201006T173000
DTSTAMP:20260420T220922
CREATED:20200920T082402Z
LAST-MODIFIED:20200920T082402Z
UID:21367-1601998200-1602005400@www.yamagata-npo.jp
SUMMARY:SDGs市民カレッジ（貧困×水×エネルギー）
DESCRIPTION: \nチラシはこちらからダウンロードできます（PDF） \n
URL:https://www.yamagata-npo.jp/event/21367
CATEGORIES:団体主催
ATTACH;FMTTYPE=image/jpeg:https://www.yamagata-npo.jp/wp/wp-content/uploads/2020_SDGs_college-1.jpg
ORGANIZER;CN="SDG%EF%BD%93%E5%B8%82%E6%B0%91%E7%A4%BE%E4%BC%9A%E3%83%8D%E3%83%83%E3%83%88%E3%83%AF%E3%83%BC%E3%82%AF":MAILTO:event@sdgs-japan.net
END:VEVENT
END:VCALENDAR