BEGIN:VCALENDAR
VERSION:2.0
PRODID:-//山形市市民活動支援センター - ECPv4.6.24.1//NONSGML v1.0//EN
CALSCALE:GREGORIAN
METHOD:PUBLISH
X-WR-CALNAME:山形市市民活動支援センター
X-ORIGINAL-URL:https://www.yamagata-npo.jp
X-WR-CALDESC:Events for 山形市市民活動支援センター
BEGIN:VEVENT
DTSTART;TZID=Asia/Tokyo:20200927T090000
DTEND;TZID=Asia/Tokyo:20200927T110000
DTSTAMP:20260419T132834
CREATED:20200920T102925Z
LAST-MODIFIED:20200920T102925Z
UID:21396-1601197200-1601204400@www.yamagata-npo.jp
SUMMARY:七日町御殿堰天日干し新米づくり
DESCRIPTION:チラシはこちらからダウンロードできます \n
URL:https://www.yamagata-npo.jp/event/21396
LOCATION:山形市七日町御殿堰（水の町屋前）
CATEGORIES:団体主催
ATTACH;FMTTYPE=image/jpeg:https://www.yamagata-npo.jp/wp/wp-content/uploads/020927_1010_shinmai.jpg
END:VEVENT
END:VCALENDAR