BEGIN:VCALENDAR
VERSION:2.0
PRODID:-//山形市市民活動支援センター - ECPv4.6.24.1//NONSGML v1.0//EN
CALSCALE:GREGORIAN
METHOD:PUBLISH
X-WR-CALNAME:山形市市民活動支援センター
X-ORIGINAL-URL:https://www.yamagata-npo.jp
X-WR-CALDESC:Events for 山形市市民活動支援センター
BEGIN:VEVENT
DTSTART;TZID=Asia/Tokyo:20210227T100000
DTEND;TZID=Asia/Tokyo:20210227T120000
DTSTAMP:20260421T165257
CREATED:20210127T103423Z
LAST-MODIFIED:20210127T103423Z
UID:23200-1614420000-1614427200@www.yamagata-npo.jp
SUMMARY:絵本の中の「ジェンダー」
DESCRIPTION:チラシはこちらからダウンロードできます(PDFデータ) \n
URL:https://www.yamagata-npo.jp/event/23200
LOCATION:山形県立図書館 1階 アクティブラーニングルーム\, 緑町1-2-36\, 山形市\, 990-0041
CATEGORIES:団体主催
ATTACH;FMTTYPE=image/jpeg:https://www.yamagata-npo.jp/wp/wp-content/uploads/1edd6669f6a22b9e164ef68d9dc39777-1-e1611743105655.jpg
END:VEVENT
END:VCALENDAR