BEGIN:VCALENDAR
VERSION:2.0
PRODID:-//山形市市民活動支援センター - ECPv4.6.24.1//NONSGML v1.0//EN
CALSCALE:GREGORIAN
METHOD:PUBLISH
X-WR-CALNAME:山形市市民活動支援センター
X-ORIGINAL-URL:https://www.yamagata-npo.jp
X-WR-CALDESC:Events for 山形市市民活動支援センター
BEGIN:VEVENT
DTSTART;TZID=Asia/Tokyo:20210817T103000
DTEND;TZID=Asia/Tokyo:20210817T114500
DTSTAMP:20260424T191631
CREATED:20210204T073558Z
LAST-MODIFIED:20210414T024052Z
UID:23306-1629196200-1629200700@www.yamagata-npo.jp
SUMMARY:遊びり会
DESCRIPTION:  \nチラシのPDFはこちらからダウンロードできます \n
URL:https://www.yamagata-npo.jp/event/23306
LOCATION:西山形コミュニティセンター\, 山形市柏倉3800
GEO:38.235786;140.2699145
X-APPLE-STRUCTURED-LOCATION;VALUE=URI;X-ADDRESS=西山形コミュニティセンター 山形市柏倉3800;X-APPLE-RADIUS=500;X-TITLE=山形市柏倉3800:geo:140.2699145,38.235786
CATEGORIES:団体主催
ATTACH;FMTTYPE=image/jpeg:https://www.yamagata-npo.jp/wp/wp-content/uploads/R3_asobirikai-1.jpg
END:VEVENT
END:VCALENDAR