BEGIN:VCALENDAR
VERSION:2.0
PRODID:-//山形市市民活動支援センター - ECPv4.6.24.1//NONSGML v1.0//EN
CALSCALE:GREGORIAN
METHOD:PUBLISH
X-WR-CALNAME:山形市市民活動支援センター
X-ORIGINAL-URL:https://www.yamagata-npo.jp
X-WR-CALDESC:Events for 山形市市民活動支援センター
BEGIN:VEVENT
DTSTART;TZID=Asia/Tokyo:20210309T160000
DTEND;TZID=Asia/Tokyo:20210309T170000
DTSTAMP:20260421T204754
CREATED:20210220T085648Z
LAST-MODIFIED:20210220T085648Z
UID:23486-1615305600-1615309200@www.yamagata-npo.jp
SUMMARY:第1回YU-SDGsカフェ
DESCRIPTION:\n日時：令和3年3月9日（火）16:00～17:00　（奇数月第2火曜同時刻に定期開催予定）\n形式：zoomミーティング（視聴のみの参加もOK）（オンデマンド配信も予定）\n対象：山形大学教職員・学生\,一般の皆様、他大学の学生，高校生など\nゲスト：山本陽史先生（ボローニャ市／ボローニャ大学との連携等）、小倉泰憲先生（働きがいのある人間らしい雇用、ジェンダー平等等）\n主催：YU-SDGs_TF\n\n\n　昨年12月に開催したYU-SDGsオンラインセミナー「山大はSDGsにどう向き合い、どのように行動していくのか？」では，学内の皆さんの多数のご参加をいただきました。セミナーでは活発な意見交換も行われ，SDGsに対する学内の関心の高さが感じられました。 \n　そこで，SDGsに関心のある皆さまが，お茶でも飲みながら，より気軽に対話と気付きが得られるような場として，SDGsカフェの開催を企画しました。 \n　コロナ禍の状況によりオンラインの開催を基本として，隔月のペースで定期に開催していく予定ですので，ご気軽にご参加（もちろん視聴のみも）をお待ちしております。 \n\n  \n\n \n\n
URL:https://www.yamagata-npo.jp/event/23486
LOCATION:オンライン開催
CATEGORIES:団体主催
ATTACH;FMTTYPE=image/png:https://www.yamagata-npo.jp/wp/wp-content/uploads/f9a272eed0268597266e97b5349b9c2f.png
END:VEVENT
END:VCALENDAR