BEGIN:VCALENDAR
VERSION:2.0
PRODID:-//山形市市民活動支援センター - ECPv4.6.24.1//NONSGML v1.0//EN
CALSCALE:GREGORIAN
METHOD:PUBLISH
X-WR-CALNAME:山形市市民活動支援センター
X-ORIGINAL-URL:https://www.yamagata-npo.jp
X-WR-CALDESC:Events for 山形市市民活動支援センター
BEGIN:VEVENT
DTSTART;TZID=Asia/Tokyo:20210307T140000
DTEND;TZID=Asia/Tokyo:20210307T150000
DTSTAMP:20260421T163741
CREATED:20210221T072653Z
LAST-MODIFIED:20210224T045437Z
UID:23502-1615125600-1615129200@www.yamagata-npo.jp
SUMMARY:Youtuber看護師隊員が語る　ラオスでのコロナ禍の協力隊活動！
DESCRIPTION:チラシはこちらからダウンロードできます(PDFデータ) \n
URL:https://www.yamagata-npo.jp/event/23502
LOCATION:山形市市民活動支援センター　２３階　高度情報会議室\, 山形市城南町1-1-1 霞城セントラル23階
CATEGORIES:団体主催
ATTACH;FMTTYPE=image/jpeg:https://www.yamagata-npo.jp/wp/wp-content/uploads/d812241a0c447cbf9232c5c97d7e30ae.jpg
ORGANIZER;CN="%E5%B1%B1%E5%BD%A2%E7%9C%8C%E9%9D%92%E5%B9%B4%E6%B5%B7%E5%A4%96%E5%8D%94%E5%8A%9B%E5%8D%94%E4%BC%9A":MAILTO:info@yamagatayoca.org
END:VEVENT
END:VCALENDAR