BEGIN:VCALENDAR
VERSION:2.0
PRODID:-//山形市市民活動支援センター - ECPv4.6.24.1//NONSGML v1.0//EN
CALSCALE:GREGORIAN
METHOD:PUBLISH
X-WR-CALNAME:山形市市民活動支援センター
X-ORIGINAL-URL:https://www.yamagata-npo.jp
X-WR-CALDESC:Events for 山形市市民活動支援センター
BEGIN:VEVENT
DTSTART;TZID=Asia/Tokyo:20210612T140000
DTEND;TZID=Asia/Tokyo:20210612T160000
DTSTAMP:20260424T230102
CREATED:20210410T081058Z
LAST-MODIFIED:20210519T053138Z
UID:24139-1623506400-1623513600@www.yamagata-npo.jp
SUMMARY:【満員御礼】はじめてのＳＤＧｓ
DESCRIPTION:チラシのダウンロード（PDF） \n申込書のダウンロード（PDF・word）\n※申込受付期間：５月１５日（土）～６月１０日（木） \n\nこの講座は定員に達した為、申込みを締切りました。 \n
URL:https://www.yamagata-npo.jp/event/24139
LOCATION:山形市市民活動支援センター　ふらっと　＋　会議室Ｂ\, 山形県山形市城南町1-1-1-22F
CATEGORIES:センター主催
ATTACH;FMTTYPE=image/jpeg:https://www.yamagata-npo.jp/wp/wp-content/uploads/R3_6.SDGs_omote.jpg
END:VEVENT
END:VCALENDAR