BEGIN:VCALENDAR
VERSION:2.0
PRODID:-//山形市市民活動支援センター - ECPv4.6.24.1//NONSGML v1.0//EN
CALSCALE:GREGORIAN
METHOD:PUBLISH
X-WR-CALNAME:山形市市民活動支援センター
X-ORIGINAL-URL:https://www.yamagata-npo.jp
X-WR-CALDESC:Events for 山形市市民活動支援センター
BEGIN:VEVENT
DTSTART;TZID=Asia/Tokyo:20210617T100000
DTEND;TZID=Asia/Tokyo:20210617T120000
DTSTAMP:20260425T001125
CREATED:20210507T040306Z
LAST-MODIFIED:20210618T070222Z
UID:24333-1623924000-1623931200@www.yamagata-npo.jp
SUMMARY:転勤に負けない！キャリアと自分軸の作り方
DESCRIPTION: \nチラシのダウンロードはこちらから（PDF） \n
URL:https://www.yamagata-npo.jp/event/24333
LOCATION:ハローワークプラザやまがた内　セミナールーム\, 双葉町1-2-3\, 山形市\, 山形県\, 9900828
CATEGORIES:団体主催
ATTACH;FMTTYPE=image/jpeg:https://www.yamagata-npo.jp/wp/wp-content/uploads/SKM_C25821050713001_1-1.jpg
END:VEVENT
END:VCALENDAR