BEGIN:VCALENDAR
VERSION:2.0
PRODID:-//山形市市民活動支援センター - ECPv4.6.24.1//NONSGML v1.0//EN
CALSCALE:GREGORIAN
METHOD:PUBLISH
X-WR-CALNAME:山形市市民活動支援センター
X-ORIGINAL-URL:https://www.yamagata-npo.jp
X-WR-CALDESC:Events for 山形市市民活動支援センター
BEGIN:VEVENT
DTSTART;TZID=Asia/Tokyo:20210609T180000
DTEND;TZID=Asia/Tokyo:20210609T193000
DTSTAMP:20260424T230001
CREATED:20210508T050033Z
LAST-MODIFIED:20210513T052226Z
UID:24341-1623261600-1623267000@www.yamagata-npo.jp
SUMMARY:想いを伝える　パワーポイントスライド作成講座
DESCRIPTION:お申込受付期間：５月15日（土）～6月6日（日） \nチラシはこちらよりダウンロードできます（PDF形式） \n
URL:https://www.yamagata-npo.jp/event/24341
LOCATION:山形市市民活動支援センター　会議室B\, 城南町1-1-1　霞城セントラル\, 山形市\, 山形県\, 9908580\, 日本
CATEGORIES:センター主催
ATTACH;FMTTYPE=image/jpeg:https://www.yamagata-npo.jp/wp/wp-content/uploads/210609_koho.jpg
END:VEVENT
END:VCALENDAR