BEGIN:VCALENDAR
VERSION:2.0
PRODID:-//山形市市民活動支援センター - ECPv4.6.24.1//NONSGML v1.0//EN
CALSCALE:GREGORIAN
METHOD:PUBLISH
X-WR-CALNAME:山形市市民活動支援センター
X-ORIGINAL-URL:https://www.yamagata-npo.jp
X-WR-CALDESC:Events for 山形市市民活動支援センター
BEGIN:VEVENT
DTSTART;TZID=Asia/Tokyo:20211120T100000
DTEND;TZID=Asia/Tokyo:20211120T113000
DTSTAMP:20260420T094300
CREATED:20210707T063929Z
LAST-MODIFIED:20210707T063929Z
UID:25077-1637402400-1637407800@www.yamagata-npo.jp
SUMMARY:令和３年度 山形県男女共同参画センター・チェリア　やまがた緑塾
DESCRIPTION:講座第３回目の１１月２０日(土)の申込み締切りは１１月１０日(水)です。\nチラシはこちらからダウンロードできます。（PDF） \n
URL:https://www.yamagata-npo.jp/event/25077
LOCATION:遊学館　2階　学習室\, 緑町1-2-36\, 山形市
CATEGORIES:団体主催
ATTACH;FMTTYPE=image/jpeg:https://www.yamagata-npo.jp/wp/wp-content/uploads/SKM_C25821070716150-1-1.jpg
ORGANIZER;CN="%E5%B1%B1%E5%BD%A2%E7%9C%8C%E7%94%B7%E5%A5%B3%E5%85%B1%E5%90%8C%E5%8F%82%E7%94%BB%E3%82%BB%E3%83%B3%E3%82%BF%E3%83%BC%E3%80%80%E3%83%81%E3%82%A7%E3%83%AA%E3%82%A2":MAILTO:cheria1@yamagata-cheria.org
END:VEVENT
END:VCALENDAR