BEGIN:VCALENDAR
VERSION:2.0
PRODID:-//山形市市民活動支援センター - ECPv4.6.24.1//NONSGML v1.0//EN
CALSCALE:GREGORIAN
METHOD:PUBLISH
X-WR-CALNAME:山形市市民活動支援センター
X-ORIGINAL-URL:https://www.yamagata-npo.jp
X-WR-CALDESC:Events for 山形市市民活動支援センター
BEGIN:VEVENT
DTSTART;TZID=Asia/Tokyo:20210819T150000
DTEND;TZID=Asia/Tokyo:20210819T170000
DTSTAMP:20260425T013237
CREATED:20210807T040112Z
LAST-MODIFIED:20210811T065155Z
UID:25370-1629385200-1629392400@www.yamagata-npo.jp
SUMMARY:次の時代を見据えたNPOの事例と実践「事業戦略づくり基礎ゼミ」第１回
DESCRIPTION:＜生放送日時＞\n［第1回］8月19日（木）15:00-17:00\n［第2回］9月9日（木）15:00-17:00\n※生放送時間＋終了直後から2週間以内であれば、映像を何回でも視聴できます。\n\n＜受講料＞\n・オンライン受講（2回セット） : 3\,000円\n・オンライン受講（第2回「事業戦略づくりLIVE」のみ）：2\,000円\n\n＜講師＞\n・松本 祐一（NPO法人 NPOサポートセンター 代表理事 / 多摩大学 経営情報学部 教授）\n・ゲスト : 北原まどか（特定非営利活動法人 特定非営利活動法人森ノオト 理事長）\n\n＜学べること＞\n・NPO活動のモデルチェンジやソーシャル・マーケティングに関する基礎知識の習得\n・NPOによる事業の見直し、戦略づくりの事例の理解\n・次の3年～5年を見据えた事業戦略をつくるための考え方、フレームワークの使い方\n\n▼お申込み、詳細はこちらから\nhttps://npo-sc.org/training/good-business-studio/curriculum/21009/\n
URL:https://www.yamagata-npo.jp/event/25370
LOCATION:（オンライン開催）
CATEGORIES:団体主催
ATTACH;FMTTYPE=image/png:https://www.yamagata-npo.jp/wp/wp-content/uploads/6e6902a89c204bc2a0fd082bf7ec231c.png
END:VEVENT
END:VCALENDAR