BEGIN:VCALENDAR
VERSION:2.0
PRODID:-//山形市市民活動支援センター - ECPv4.6.24.1//NONSGML v1.0//EN
CALSCALE:GREGORIAN
METHOD:PUBLISH
X-WR-CALNAME:山形市市民活動支援センター
X-ORIGINAL-URL:https://www.yamagata-npo.jp
X-WR-CALDESC:Events for 山形市市民活動支援センター
BEGIN:VEVENT
DTSTART;TZID=Asia/Tokyo:20210819T183000
DTEND;TZID=Asia/Tokyo:20210819T193000
DTSTAMP:20260425T023411
CREATED:20210807T041329Z
LAST-MODIFIED:20210807T041622Z
UID:25377-1629397800-1629401400@www.yamagata-npo.jp
SUMMARY:10代と20代のためのNPOキャンパス開講記念無料イベント　　　　　　　　　NPO代表による特別講義「社会課題の解決をしごとにする」
DESCRIPTION:＜生放送日時＞\n・8月19日（木）18:30-19:30\n※生放送時間＋2021年8月末までであれば、映像を何回でも視聴できます。\n\n＜対象＞\n・学生 : 大学生、大学院生、短大生、専門学生、高専生、高校生\n・社会人 : 概ね24歳以下の方\n\n＜講師＞\n・松本 祐一（NPO法人 NPOサポートセンター 代表理事 / 多摩大学 経営情報学部 教授）\n\n＜プログラム＞\n・NPOの代表の仕事とは\n・NPOにかかわる仕事の選択肢は様々にある\n・NPOを支援する仕事とは\n・「10代と20代のためのNPOキャンパス」概要説明\n\n＜10代と20代のためのNPOキャンパスとは＞\n2021年9月から開講する、NPO支援の仕事に\nかかわりたい若者を対象としたプログラムです。\n自分の将来についてを学び、考え、動きだしたい第1期生を募集しています。\n募集要項、詳しいカリキュラムはこちら : https://n-campus.npo-sc.org\n\n▼お申込み、詳細はこちらから\nhttps://npo-sc.org/main/event/n-cam-intro/\n\n
URL:https://www.yamagata-npo.jp/event/25377
LOCATION:（オンライン開催）
CATEGORIES:団体主催
ATTACH;FMTTYPE=image/png:https://www.yamagata-npo.jp/wp/wp-content/uploads/a9fb3f5bf32ded732cc015cb77a56f8a.png
END:VEVENT
END:VCALENDAR