BEGIN:VCALENDAR
VERSION:2.0
PRODID:-//山形市市民活動支援センター - ECPv4.6.24.1//NONSGML v1.0//EN
CALSCALE:GREGORIAN
METHOD:PUBLISH
X-WR-CALNAME:山形市市民活動支援センター
X-ORIGINAL-URL:https://www.yamagata-npo.jp
X-WR-CALDESC:Events for 山形市市民活動支援センター
BEGIN:VEVENT
DTSTART;TZID=Asia/Tokyo:20220114T150000
DTEND;TZID=Asia/Tokyo:20220114T170000
DTSTAMP:20260420T112757
CREATED:20210916T110141Z
LAST-MODIFIED:20211109T035549Z
UID:25992-1642172400-1642179600@www.yamagata-npo.jp
SUMMARY:ＳＤＧｓ市民カレッジ（VOL.１「環境関連ゴールをめぐる国内外・UNでの最新動向と市民社会の取組」）
DESCRIPTION:詳細は下記ＵＲＬよりご覧ください\nhttps://www.sdgs-japan.net/single-post/sdgscollege2021 \n
URL:https://www.yamagata-npo.jp/event/25992
LOCATION:オンライン開催
CATEGORIES:団体主催
ATTACH;FMTTYPE=image/jpeg:https://www.yamagata-npo.jp/wp/wp-content/uploads/2021.1-2_SDGsJAPAN.jpg
END:VEVENT
END:VCALENDAR