BEGIN:VCALENDAR
VERSION:2.0
PRODID:-//山形市市民活動支援センター - ECPv4.6.24.1//NONSGML v1.0//EN
CALSCALE:GREGORIAN
METHOD:PUBLISH
X-WR-CALNAME:山形市市民活動支援センター
X-ORIGINAL-URL:https://www.yamagata-npo.jp
X-WR-CALDESC:Events for 山形市市民活動支援センター
BEGIN:VEVENT
DTSTART;TZID=Asia/Tokyo:20211116T100000
DTEND;TZID=Asia/Tokyo:20211116T160000
DTSTAMP:20260420T195219
CREATED:20211005T012444Z
LAST-MODIFIED:20211005T012444Z
UID:26153-1637056800-1637078400@www.yamagata-npo.jp
SUMMARY:生活支援活動ステップアップ講座　村山会場
DESCRIPTION:  \n \nチラシはこちらからダウンロードできます（PDF形式） \n
URL:https://www.yamagata-npo.jp/event/26153
LOCATION:山形県生涯学習センター遊学館\, 緑町1-2-36\, 山形市\, 山形県\, 9900041
CATEGORIES:団体主催
ATTACH;FMTTYPE=image/jpeg:https://www.yamagata-npo.jp/wp/wp-content/uploads/SKM_C25821093014260.jpg
END:VEVENT
END:VCALENDAR