BEGIN:VCALENDAR
VERSION:2.0
PRODID:-//山形市市民活動支援センター - ECPv4.6.24.1//NONSGML v1.0//EN
CALSCALE:GREGORIAN
METHOD:PUBLISH
X-WR-CALNAME:山形市市民活動支援センター
X-ORIGINAL-URL:https://www.yamagata-npo.jp
X-WR-CALDESC:Events for 山形市市民活動支援センター
BEGIN:VEVENT
DTSTART;TZID=Asia/Tokyo:20211122T100000
DTEND;TZID=Asia/Tokyo:20211122T130000
DTSTAMP:20260420T113606
CREATED:20211005T053640Z
LAST-MODIFIED:20211005T053640Z
UID:26204-1637575200-1637586000@www.yamagata-npo.jp
SUMMARY:保育現場　復帰講座
DESCRIPTION: \nチラシはこちらからダウンロードできます（PDF形式） \n  \n
URL:https://www.yamagata-npo.jp/event/26204
LOCATION:山形テルサ3階　研修室B\, 双葉町1-2-3\, 山形市\, 山形県\, 9900828\, 日本
CATEGORIES:団体主催
ATTACH;FMTTYPE=image/jpeg:https://www.yamagata-npo.jp/wp/wp-content/uploads/hukki-1.jpg
END:VEVENT
END:VCALENDAR