BEGIN:VCALENDAR
VERSION:2.0
PRODID:-//山形市市民活動支援センター - ECPv4.6.24.1//NONSGML v1.0//EN
CALSCALE:GREGORIAN
METHOD:PUBLISH
X-WR-CALNAME:山形市市民活動支援センター
X-ORIGINAL-URL:https://www.yamagata-npo.jp
X-WR-CALDESC:Events for 山形市市民活動支援センター
BEGIN:VEVENT
DTSTART;TZID=Asia/Tokyo:20211203T190000
DTEND;TZID=Asia/Tokyo:20211203T210000
DTSTAMP:20260420T083717
CREATED:20211008T104955Z
LAST-MODIFIED:20211008T104955Z
UID:26243-1638558000-1638565200@www.yamagata-npo.jp
SUMMARY:はじめてのＳＤＧｓ
DESCRIPTION:チラシのダウンロード（PDF） \n申込書のダウンロード（PDF・word） \n \n
URL:https://www.yamagata-npo.jp/event/26243
LOCATION:山形市市民活動支援センター　ふらっと　＋　会議室Ｂ\, 山形県山形市城南町1-1-1-22F
CATEGORIES:センター主催
ATTACH;FMTTYPE=image/jpeg:https://www.yamagata-npo.jp/wp/wp-content/uploads/R3.12.3_SDGs_omote.jpg
END:VEVENT
END:VCALENDAR