BEGIN:VCALENDAR
VERSION:2.0
PRODID:-//山形市市民活動支援センター - ECPv4.6.24.1//NONSGML v1.0//EN
CALSCALE:GREGORIAN
METHOD:PUBLISH
X-WR-CALNAME:山形市市民活動支援センター
X-ORIGINAL-URL:https://www.yamagata-npo.jp
X-WR-CALDESC:Events for 山形市市民活動支援センター
BEGIN:VEVENT
DTSTART;TZID=Asia/Tokyo:20211118T133000
DTEND;TZID=Asia/Tokyo:20211118T153000
DTSTAMP:20260420T153800
CREATED:20211016T012222Z
LAST-MODIFIED:20211016T012746Z
UID:26279-1637242200-1637249400@www.yamagata-npo.jp
SUMMARY:目指せ！カーボンニュートラル ＳＤＧｓ実践セミナー
DESCRIPTION: \nチラシはこちらからダウンロードできます（PDF形式） \n
URL:https://www.yamagata-npo.jp/event/26279
LOCATION:山形市国際交流プラザ　山形ビッグウイング　2階　交流サロン\, 山形市平久保100番
GEO:38.2874107;140.3530056
X-APPLE-STRUCTURED-LOCATION;VALUE=URI;X-ADDRESS=山形市国際交流プラザ　山形ビッグウイング　2階　交流サロン 山形市平久保100番;X-APPLE-RADIUS=500;X-TITLE=山形市平久保100番:geo:140.3530056,38.2874107
CATEGORIES:団体主催
ATTACH;FMTTYPE=image/jpeg:https://www.yamagata-npo.jp/wp/wp-content/uploads/5e52931619aac00cacf154dce6b134cb.jpg
ORGANIZER;CN="NPO%E6%B3%95%E4%BA%BA%E3%80%80%E7%92%B0%E5%A2%83%E3%83%8D%E3%83%83%E3%83%88%E3%82%84%E3%81%BE%E3%81%8C%E3%81%9F":MAILTO:eny@chive.ocn.ne.jp
END:VEVENT
END:VCALENDAR