BEGIN:VCALENDAR
VERSION:2.0
PRODID:-//山形市市民活動支援センター - ECPv4.6.24.1//NONSGML v1.0//EN
CALSCALE:GREGORIAN
METHOD:PUBLISH
X-WR-CALNAME:山形市市民活動支援センター
X-ORIGINAL-URL:https://www.yamagata-npo.jp
X-WR-CALDESC:Events for 山形市市民活動支援センター
BEGIN:VEVENT
DTSTART;TZID=Asia/Tokyo:20211209T190000
DTEND;TZID=Asia/Tokyo:20211209T200000
DTSTAMP:20260420T185314
CREATED:20211020T070039Z
LAST-MODIFIED:20211020T070039Z
UID:26439-1639076400-1639080000@www.yamagata-npo.jp
SUMMARY:地域のＳＤＧｓ実践者に聞く（人を育てるＳＤＧｓ）
DESCRIPTION:詳細：https://www.sdgs-japan.net/single-post/asahishimbun_kyosai \n
URL:https://www.yamagata-npo.jp/event/26439
LOCATION:（オンライン開催）
CATEGORIES:団体主催
ATTACH;FMTTYPE=image/jpeg:https://www.yamagata-npo.jp/wp/wp-content/uploads/2021.10.28_SDGsJAPAN.jpg
END:VEVENT
END:VCALENDAR