BEGIN:VCALENDAR
VERSION:2.0
PRODID:-//山形市市民活動支援センター - ECPv4.6.24.1//NONSGML v1.0//EN
CALSCALE:GREGORIAN
METHOD:PUBLISH
X-WR-CALNAME:山形市市民活動支援センター
X-ORIGINAL-URL:https://www.yamagata-npo.jp
X-WR-CALDESC:Events for 山形市市民活動支援センター
BEGIN:VEVENT
DTSTART;TZID=Asia/Tokyo:20211201T143000
DTEND;TZID=Asia/Tokyo:20211201T163000
DTSTAMP:20260420T083906
CREATED:20211027T055842Z
LAST-MODIFIED:20211030T085853Z
UID:26490-1638369000-1638376200@www.yamagata-npo.jp
SUMMARY:ＮＰＯ勉強会～ＮＰＯ入門編～
DESCRIPTION: \nチラシのダウンロードはこちらから（PDFデータ） \n申込用紙のダウンロードはこちらから（Wordデータ） \n\n当日はオンラインミーティング「Zoom」を使用して行います。参加をご希望の方には、開催日の前日に参加用のＵＲＬとパスワードを、申込の際にご連絡いただいたメールアドレスへＥメールでお送りします。\n当センター（center@yamagata-npo.jp）よりＥメールをお送りします。迷惑メールや受信ドメイン指定をされている方はＥメールが受信できるように設定をお願いします。\n開催前にあらかじめご使用の端末に「Zoom」をインストールし、マイク・カメラ等の接続テストをお願いします。\nその他、参加にあたりご不明な点については当センターへお問い合わせください。\n\n【主催・お問い合わせ先】\n山形市市民活動支援センター\n〒990-8580 山形市城南町1-1-1 霞城セントラル22階・23階\nＴＥＬ: 023-647-2260（9:30～22:00）\nＥメール： center*yamagata-npo.jp（*を@に換えてご送信ください） \n
URL:https://www.yamagata-npo.jp/event/26490
LOCATION:山形市市民活動支援センター　会議室B\, 城南町1-1-1　霞城セントラル\, 山形市\, 山形県\, 9908580\, 日本
CATEGORIES:センター主催
ATTACH;FMTTYPE=image/jpeg:https://www.yamagata-npo.jp/wp/wp-content/uploads/R3_12.NPObenkyokai_nyumon-01.jpg
END:VEVENT
END:VCALENDAR