BEGIN:VCALENDAR
VERSION:2.0
PRODID:-//山形市市民活動支援センター - ECPv4.6.24.1//NONSGML v1.0//EN
CALSCALE:GREGORIAN
METHOD:PUBLISH
X-WR-CALNAME:山形市市民活動支援センター
X-ORIGINAL-URL:https://www.yamagata-npo.jp
X-WR-CALDESC:Events for 山形市市民活動支援センター
BEGIN:VEVENT
DTSTART;TZID=Asia/Tokyo:20211202T140000
DTEND;TZID=Asia/Tokyo:20211202T153000
DTSTAMP:20260422T083703
CREATED:20211027T061903Z
LAST-MODIFIED:20211113T013412Z
UID:26496-1638453600-1638459000@www.yamagata-npo.jp
SUMMARY:もっと知りたい！ 山形市市民活動支援センター見学会
DESCRIPTION: \n  \nチラシのダウンロードはこちらから（PDFデータ） \n申込書のダウンロードはこちらから（Wordデータ） \n
URL:https://www.yamagata-npo.jp/event/26496
LOCATION:山形市市民活動支援センター\, 山形市城南町1-1-1　霞城セントラル22階
CATEGORIES:センター主催
ATTACH;FMTTYPE=image/jpeg:https://www.yamagata-npo.jp/wp/wp-content/uploads/211202_kengaku_02.jpg
END:VEVENT
END:VCALENDAR