BEGIN:VCALENDAR
VERSION:2.0
PRODID:-//山形市市民活動支援センター - ECPv4.6.24.1//NONSGML v1.0//EN
CALSCALE:GREGORIAN
METHOD:PUBLISH
X-WR-CALNAME:山形市市民活動支援センター
X-ORIGINAL-URL:https://www.yamagata-npo.jp
X-WR-CALDESC:Events for 山形市市民活動支援センター
BEGIN:VEVENT
DTSTART;TZID=Asia/Tokyo:20211126T150000
DTEND;TZID=Asia/Tokyo:20211126T190000
DTSTAMP:20260420T192840
CREATED:20211027T080105Z
LAST-MODIFIED:20211027T080105Z
UID:26503-1637938800-1637953200@www.yamagata-npo.jp
SUMMARY:NPOなんでも相談会
DESCRIPTION: チラシはこちらからダウンロードできます（PDF形式） \n
URL:https://www.yamagata-npo.jp/event/26503
LOCATION:遊学館　３階第５研修室\, 山形市緑町１-２-３６\, 山形県\, 日本
CATEGORIES:団体主催
ATTACH;FMTTYPE=image/jpeg:https://www.yamagata-npo.jp/wp/wp-content/uploads/e79893b6dedd05b0d99ec1d4727bc1d5.jpg
END:VEVENT
END:VCALENDAR