BEGIN:VCALENDAR
VERSION:2.0
PRODID:-//山形市市民活動支援センター - ECPv4.6.24.1//NONSGML v1.0//EN
CALSCALE:GREGORIAN
METHOD:PUBLISH
X-WR-CALNAME:山形市市民活動支援センター
X-ORIGINAL-URL:https://www.yamagata-npo.jp
X-WR-CALDESC:Events for 山形市市民活動支援センター
BEGIN:VEVENT
DTSTART;TZID=Asia/Tokyo:20211125T133000
DTEND;TZID=Asia/Tokyo:20211125T153000
DTSTAMP:20260420T144532
CREATED:20211106T070905Z
LAST-MODIFIED:20211106T070905Z
UID:26562-1637847000-1637854200@www.yamagata-npo.jp
SUMMARY:DVを知り考えよう～私らしく生きるために～
DESCRIPTION:チラシはこちらからダウンロードできます（PDF形式） \n
URL:https://www.yamagata-npo.jp/event/26562
LOCATION:山形市男児共同参画センター「ファーラ」 5F 視聴覚室\, 城西町２ー２ー２２\, 山形市\, 山形県\, 990-0832
CATEGORIES:団体主催
ATTACH;FMTTYPE=image/png:https://www.yamagata-npo.jp/wp/wp-content/uploads/r3dvbousi1.png
END:VEVENT
END:VCALENDAR