BEGIN:VCALENDAR
VERSION:2.0
PRODID:-//山形市市民活動支援センター - ECPv4.6.24.1//NONSGML v1.0//EN
CALSCALE:GREGORIAN
METHOD:PUBLISH
X-WR-CALNAME:山形市市民活動支援センター
X-ORIGINAL-URL:https://www.yamagata-npo.jp
X-WR-CALDESC:Events for 山形市市民活動支援センター
BEGIN:VEVENT
DTSTART;TZID=Asia/Tokyo:20211126T174500
DTEND;TZID=Asia/Tokyo:20211126T191500
DTSTAMP:20260420T210914
CREATED:20211109T073409Z
LAST-MODIFIED:20211109T073409Z
UID:26620-1637948700-1637954100@www.yamagata-npo.jp
SUMMARY:市民セクター全国会議2021 変容する社会と市民活動の広がり
DESCRIPTION: \nチラシはこちらからダウンロードできます（PDF形式） \n
URL:https://www.yamagata-npo.jp/event/26620
LOCATION:（オンライン開催）
CATEGORIES:団体主催
ATTACH;FMTTYPE=image/jpeg:https://www.yamagata-npo.jp/wp/wp-content/uploads/R3.11.26-27_JNPOC_1.jpg
END:VEVENT
END:VCALENDAR