BEGIN:VCALENDAR
VERSION:2.0
PRODID:-//山形市市民活動支援センター - ECPv4.6.24.1//NONSGML v1.0//EN
CALSCALE:GREGORIAN
METHOD:PUBLISH
X-WR-CALNAME:山形市市民活動支援センター
X-ORIGINAL-URL:https://www.yamagata-npo.jp
X-WR-CALDESC:Events for 山形市市民活動支援センター
BEGIN:VEVENT
DTSTART;TZID=Asia/Tokyo:20211128T130000
DTEND;TZID=Asia/Tokyo:20211128T170000
DTSTAMP:20260421T021033
CREATED:20211109T082859Z
LAST-MODIFIED:20211109T083001Z
UID:26629-1638104400-1638118800@www.yamagata-npo.jp
SUMMARY:災害に強い地域づくりを考える会　合同研修会
DESCRIPTION:チラシはこちらからダウンロードできます。（PDFデータ） \n
URL:https://www.yamagata-npo.jp/event/26629
LOCATION:山形市北部公民館　3階　大ホール\, 山形市宮町４丁目１７−１３
CATEGORIES:団体主催
ATTACH;FMTTYPE=image/jpeg:https://www.yamagata-npo.jp/wp/wp-content/uploads/211128_01.jpg
ORGANIZER;CN="%E7%81%BD%E5%AE%B3%E3%81%AB%E5%BC%B7%E3%81%84%E5%9C%B0%E5%9F%9F%E3%81%A5%E3%81%8F%E3%82%8A%E3%82%92%E8%80%83%E3%81%88%E3%82%8B%E4%BC%9A":MAILTO:yama-konno@aioros.ocn.jp
END:VEVENT
END:VCALENDAR