BEGIN:VCALENDAR
VERSION:2.0
PRODID:-//山形市市民活動支援センター - ECPv4.6.24.1//NONSGML v1.0//EN
CALSCALE:GREGORIAN
METHOD:PUBLISH
X-WR-CALNAME:山形市市民活動支援センター
X-ORIGINAL-URL:https://www.yamagata-npo.jp
X-WR-CALDESC:Events for 山形市市民活動支援センター
BEGIN:VEVENT
DTSTART;TZID=Asia/Tokyo:20211205T130000
DTEND;TZID=Asia/Tokyo:20211205T153000
DTSTAMP:20260420T112055
CREATED:20211114T040841Z
LAST-MODIFIED:20211114T040841Z
UID:26735-1638709200-1638718200@www.yamagata-npo.jp
SUMMARY:人と人がつながる地域支え合い活動マッチングセミナー
DESCRIPTION: \n \n \nチラシはこちらからダウンロードできます（PDF形式） \n
URL:https://www.yamagata-npo.jp/event/26735
LOCATION:山形県生涯学習センター遊学館\, 緑町1-2-36\, 山形市\, 山形県\, 9900041
CATEGORIES:団体主催
ATTACH;FMTTYPE=image/jpeg:https://www.yamagata-npo.jp/wp/wp-content/uploads/R3.12.4-5_yamagakusyubunka_1.jpg
ORGANIZER;CN="%EF%BC%88%E5%85%AC%E8%B2%A1%EF%BC%89%E5%B1%B1%E5%BD%A2%E7%9C%8C%E7%94%9F%E6%B6%AF%E5%AD%A6%E7%BF%92%E6%96%87%E5%8C%96%E8%B2%A1%E5%9B%A3%EF%BC%88%E5%B1%B1%E5%BD%A2%E7%9C%8C%E7%94%9F%E6%B6%AF%E5%AD%A6%E7%BF%92%E3%82%BB%E3%83%B3%E3%82%BF%E3%83%BC%EF%BC%89":MAILTO:yama@gakushubunka.jp
END:VEVENT
END:VCALENDAR