BEGIN:VCALENDAR
VERSION:2.0
PRODID:-//山形市市民活動支援センター - ECPv4.6.24.1//NONSGML v1.0//EN
CALSCALE:GREGORIAN
METHOD:PUBLISH
X-WR-CALNAME:山形市市民活動支援センター
X-ORIGINAL-URL:https://www.yamagata-npo.jp
X-WR-CALDESC:Events for 山形市市民活動支援センター
BEGIN:VEVENT
DTSTART;TZID=Asia/Tokyo:20211205T133000
DTEND;TZID=Asia/Tokyo:20211205T163000
DTSTAMP:20260420T095811
CREATED:20211114T043030Z
LAST-MODIFIED:20211114T043030Z
UID:26737-1638711000-1638721800@www.yamagata-npo.jp
SUMMARY:みやぎNPOプラザ20周年記念フォーラム「みやぎのNPO～これまでの20年とこれからの歩み～」
DESCRIPTION:チラシはこちらからダウンロードできます（PDF形式） \n
URL:https://www.yamagata-npo.jp/event/26737
LOCATION:みやぎNPOプラザ交流サロンまたはオンライン
CATEGORIES:団体主催
ATTACH;FMTTYPE=image/jpeg:https://www.yamagata-npo.jp/wp/wp-content/uploads/R3.12.5_miyagi_npoforum2021.jpg
ORGANIZER;CN="%E3%81%BF%E3%82%84%E3%81%8E%EF%BC%AE%EF%BC%B0%EF%BC%AF%E3%83%97%E3%83%A9%E3%82%B6":MAILTO:npo@miyagi-npo.gr.jp
END:VEVENT
END:VCALENDAR